BEGIN:VCALENDAR
VERSION:2.0
PRODID:icalendar-ruby
CALSCALE:GREGORIAN
METHOD:PUBLISH
BEGIN:VEVENT
DTSTAMP:20260419T141926Z
UID:7-268414@stmatthewumcchicago.org
DTSTART:20260809T161500Z
DTEND:20260809T173000Z
CLASS:PUBLIC
CREATED:20260212T085920
DESCRIPTION:
LAST-MODIFIED:20260212T085920
LOCATION:
SUMMARY:Worship
URL;VALUE=URI:https://www.stmatthewumcchicago.org/events/worship/2026-08-09
END:VEVENT
END:VCALENDAR
